BEGIN:VCALENDAR
VERSION:2.0
PRODID:-//Klub českých turistů Polná - ECPv6.3.5//NONSGML v1.0//EN
CALSCALE:GREGORIAN
METHOD:PUBLISH
X-WR-CALNAME:Klub českých turistů Polná
X-ORIGINAL-URL:https://kct.polna.cz
X-WR-CALDESC:Akce na Klub českých turistů Polná
REFRESH-INTERVAL;VALUE=DURATION:PT1H
X-Robots-Tag:noindex
X-PUBLISHED-TTL:PT1H
BEGIN:VTIMEZONE
TZID:UTC
BEGIN:STANDARD
TZOFFSETFROM:+0000
TZOFFSETTO:+0000
TZNAME:UTC
DTSTART:20230101T000000
END:STANDARD
END:VTIMEZONE
BEGIN:VEVENT
DTSTART;VALUE=DATE:20230121
DTEND;VALUE=DATE:20230122
DTSTAMP:20260420T091526
CREATED:20230122T172842Z
LAST-MODIFIED:20230122T172858Z
UID:159-1674259200-1674345599@kct.polna.cz
SUMMARY:Betlémská cesta v Třešti
DESCRIPTION:Návštěva třešťského muzea\, stálé expozice betlémů a domácností\, kde vystavují rodinné betlémy; zajišťuje Dana Oberreiterová \n 
URL:https://kct.polna.cz/akce/betlemska-cesta-v-tresti/
LOCATION:Třešť\, Třešť\, Vysočina\, 589 01\, Česká republika
ORGANIZER;CN="K%C4%8CT Poln%C3%A1":MAILTO:test@cccc.cz
END:VEVENT
END:VCALENDAR