BEGIN:VCALENDAR
VERSION:2.0
PRODID:-//Klub českých turistů Polná - ECPv6.3.5//NONSGML v1.0//EN
CALSCALE:GREGORIAN
METHOD:PUBLISH
X-ORIGINAL-URL:https://kct.polna.cz
X-WR-CALDESC:Akce na Klub českých turistů Polná
REFRESH-INTERVAL;VALUE=DURATION:PT1H
X-Robots-Tag:noindex
X-PUBLISHED-TTL:PT1H
BEGIN:VTIMEZONE
TZID:Europe/Paris
BEGIN:DAYLIGHT
TZOFFSETFROM:+0100
TZOFFSETTO:+0200
TZNAME:CEST
DTSTART:20260329T010000
END:DAYLIGHT
BEGIN:STANDARD
TZOFFSETFROM:+0200
TZOFFSETTO:+0100
TZNAME:CET
DTSTART:20261025T010000
END:STANDARD
END:VTIMEZONE
BEGIN:VEVENT
DTSTART;VALUE=DATE:20261017
DTEND;VALUE=DATE:20261018
DTSTAMP:20260419T222807
CREATED:20260112T205200Z
LAST-MODIFIED:20260112T205200Z
UID:5214-1792195200-1792281599@kct.polna.cz
SUMMARY:Praha - Česká národní banka a nově zrekonstruované planetárium
DESCRIPTION:
URL:https://kct.polna.cz/akce/praha-ceska-narodni-banka-a-nove-zrekonstruovane-planetarium/
END:VEVENT
BEGIN:VEVENT
DTSTART;VALUE=DATE:20261210
DTEND;VALUE=DATE:20261211
DTSTAMP:20260419T222807
CREATED:20260112T205245Z
LAST-MODIFIED:20260112T205245Z
UID:5216-1796860800-1796947199@kct.polna.cz
SUMMARY:Výroční členská schůze
DESCRIPTION:
URL:https://kct.polna.cz/akce/vyrocni-clenska-schuze-3/
END:VEVENT
END:VCALENDAR