BEGIN:VCALENDAR
VERSION:2.0
PRODID:-//Klub českých turistů Polná - ECPv6.3.5//NONSGML v1.0//EN
CALSCALE:GREGORIAN
METHOD:PUBLISH
X-ORIGINAL-URL:https://kct.polna.cz
X-WR-CALDESC:Akce na Klub českých turistů Polná
REFRESH-INTERVAL;VALUE=DURATION:PT1H
X-Robots-Tag:noindex
X-PUBLISHED-TTL:PT1H
BEGIN:VTIMEZONE
TZID:Europe/Paris
BEGIN:DAYLIGHT
TZOFFSETFROM:+0100
TZOFFSETTO:+0200
TZNAME:CEST
DTSTART:20250330T010000
END:DAYLIGHT
BEGIN:STANDARD
TZOFFSETFROM:+0200
TZOFFSETTO:+0100
TZNAME:CET
DTSTART:20251026T010000
END:STANDARD
END:VTIMEZONE
BEGIN:VEVENT
DTSTART;VALUE=DATE:20251018
DTEND;VALUE=DATE:20251019
DTSTAMP:20260419T154552
CREATED:20250103T205859Z
LAST-MODIFIED:20250103T205859Z
UID:3998-1760745600-1760831999@kct.polna.cz
SUMMARY:Brno - vila Tugendhat\, vila Löw-Beer\, Vodojemy na Žlutém Kopci
DESCRIPTION:
URL:https://kct.polna.cz/akce/brno-vila-tugendhat-vila-low-beer-vodojemy-na-zlutem-kopci/
END:VEVENT
END:VCALENDAR