BEGIN:VCALENDAR
VERSION:2.0
PRODID:-//Klub českých turistů Polná - ECPv6.3.5//NONSGML v1.0//EN
CALSCALE:GREGORIAN
METHOD:PUBLISH
X-ORIGINAL-URL:https://kct.polna.cz
X-WR-CALDESC:Akce na Klub českých turistů Polná
REFRESH-INTERVAL;VALUE=DURATION:PT1H
X-Robots-Tag:noindex
X-PUBLISHED-TTL:PT1H
BEGIN:VTIMEZONE
TZID:Europe/Paris
BEGIN:DAYLIGHT
TZOFFSETFROM:+0100
TZOFFSETTO:+0200
TZNAME:CEST
DTSTART:20240331T010000
END:DAYLIGHT
BEGIN:STANDARD
TZOFFSETFROM:+0200
TZOFFSETTO:+0100
TZNAME:CET
DTSTART:20241027T010000
END:STANDARD
END:VTIMEZONE
BEGIN:VEVENT
DTSTART;VALUE=DATE:20240608
DTEND;VALUE=DATE:20240609
DTSTAMP:20260420T163347
CREATED:20240220T212337Z
LAST-MODIFIED:20240220T212337Z
UID:2379-1717804800-1717891199@kct.polna.cz
SUMMARY:Dětský zájezd – Vodní dům
DESCRIPTION:
URL:https://kct.polna.cz/akce/detsky-zajezd-vodni-dum/
END:VEVENT
BEGIN:VEVENT
DTSTART;VALUE=DATE:20240622
DTEND;VALUE=DATE:20240623
DTSTAMP:20260420T163347
CREATED:20240220T212426Z
LAST-MODIFIED:20240220T212426Z
UID:2381-1719014400-1719100799@kct.polna.cz
SUMMARY:Vlakem na prázdniny – hrad Pernštejn
DESCRIPTION:
URL:https://kct.polna.cz/akce/vlakem-na-prazdniny-hrad-pernstejn/
END:VEVENT
END:VCALENDAR