BEGIN:VCALENDAR
VERSION:2.0
PRODID:-//Klub českých turistů Polná - ECPv6.3.5//NONSGML v1.0//EN
CALSCALE:GREGORIAN
METHOD:PUBLISH
X-ORIGINAL-URL:https://kct.polna.cz
X-WR-CALDESC:Akce na Klub českých turistů Polná
REFRESH-INTERVAL;VALUE=DURATION:PT1H
X-Robots-Tag:noindex
X-PUBLISHED-TTL:PT1H
BEGIN:VTIMEZONE
TZID:Europe/Paris
BEGIN:DAYLIGHT
TZOFFSETFROM:+0100
TZOFFSETTO:+0200
TZNAME:CEST
DTSTART:20240331T010000
END:DAYLIGHT
BEGIN:STANDARD
TZOFFSETFROM:+0200
TZOFFSETTO:+0100
TZNAME:CET
DTSTART:20241027T010000
END:STANDARD
END:VTIMEZONE
BEGIN:VEVENT
DTSTART;VALUE=DATE:20240210
DTEND;VALUE=DATE:20240211
DTSTAMP:20260420T224926
CREATED:20240220T213431Z
LAST-MODIFIED:20240220T213431Z
UID:2400-1707523200-1707609599@kct.polna.cz
SUMMARY:Návštěva JE Dukovany a zimní plavba po Dalešické přehradě
DESCRIPTION:
URL:https://kct.polna.cz/akce/navsteva-je-dukovany-a-zimni-plavba-po-dalesicke-prehrade/
END:VEVENT
BEGIN:VEVENT
DTSTART;VALUE=DATE:20240217
DTEND;VALUE=DATE:20240218
DTSTAMP:20260420T224926
CREATED:20240220T213605Z
LAST-MODIFIED:20240220T213605Z
UID:2402-1708128000-1708214399@kct.polna.cz
SUMMARY:Turistický pochod na trase Rokštejn-Jihlava aneb Přepadneme Jihlavu!
DESCRIPTION:
URL:https://kct.polna.cz/akce/turisticky-pochod-na-trase-rokstejn-jihlava-aneb-prepadneme-jihlavu-2/
END:VEVENT
END:VCALENDAR