BEGIN:VCALENDAR
VERSION:2.0
PRODID:-//Klub českých turistů Polná - ECPv6.3.5//NONSGML v1.0//EN
CALSCALE:GREGORIAN
METHOD:PUBLISH
X-WR-CALNAME:Klub českých turistů Polná
X-ORIGINAL-URL:https://kct.polna.cz
X-WR-CALDESC:Akce na Klub českých turistů Polná
REFRESH-INTERVAL;VALUE=DURATION:PT1H
X-Robots-Tag:noindex
X-PUBLISHED-TTL:PT1H
BEGIN:VTIMEZONE
TZID:Europe/Paris
BEGIN:DAYLIGHT
TZOFFSETFROM:+0100
TZOFFSETTO:+0200
TZNAME:CEST
DTSTART:20230326T010000
END:DAYLIGHT
BEGIN:STANDARD
TZOFFSETFROM:+0200
TZOFFSETTO:+0100
TZNAME:CET
DTSTART:20231029T010000
END:STANDARD
END:VTIMEZONE
BEGIN:VEVENT
DTSTART;TZID=Europe/Paris:20230903T080000
DTEND;TZID=Europe/Paris:20230903T170000
DTSTAMP:20260421T065846
CREATED:20230804T160332Z
LAST-MODIFIED:20230804T160356Z
UID:1379-1693728000-1693760400@kct.polna.cz
SUMMARY:Do 3. září záloha za Strážnici
DESCRIPTION:Do 3. září je třeba uhradit zálohu za zájezd do Strážnice – záloha je stanovena na 2.000 Kč za osobu\, zaplatit je možné na nově zřízeném účtu KČT – č. účtu je: 6565045369/0800\, uveďte prosím variabilní symbol 28092023. V hotovosti lze zálohu uhradit u Míly Zemkové…
URL:https://kct.polna.cz/akce/do-3-zari-zaloha-za-straznici/
END:VEVENT
END:VCALENDAR