BEGIN:VCALENDAR
VERSION:2.0
PRODID:-//Klub českých turistů Polná - ECPv6.3.5//NONSGML v1.0//EN
CALSCALE:GREGORIAN
METHOD:PUBLISH
X-WR-CALNAME:Klub českých turistů Polná
X-ORIGINAL-URL:https://kct.polna.cz
X-WR-CALDESC:Akce na Klub českých turistů Polná
REFRESH-INTERVAL;VALUE=DURATION:PT1H
X-Robots-Tag:noindex
X-PUBLISHED-TTL:PT1H
BEGIN:VTIMEZONE
TZID:Europe/Paris
BEGIN:DAYLIGHT
TZOFFSETFROM:+0100
TZOFFSETTO:+0200
TZNAME:CEST
DTSTART:20230326T010000
END:DAYLIGHT
BEGIN:STANDARD
TZOFFSETFROM:+0200
TZOFFSETTO:+0100
TZNAME:CET
DTSTART:20231029T010000
END:STANDARD
END:VTIMEZONE
BEGIN:VEVENT
DTSTART;VALUE=DATE:20230415
DTEND;VALUE=DATE:20230416
DTSTAMP:20260421T142737
CREATED:20230123T133202Z
LAST-MODIFIED:20230123T133219Z
UID:236-1681516800-1681603199@kct.polna.cz
SUMMARY:Údolí Oslavy\, Mohelno
DESCRIPTION:Jednodenní výlet pro pěší\, zajišťuje Pavel Oberreiter
URL:https://kct.polna.cz/akce/udoli-oslavy-mohelno/
END:VEVENT
BEGIN:VEVENT
DTSTART;VALUE=DATE:20230430
DTEND;VALUE=DATE:20230502
DTSTAMP:20260421T142737
CREATED:20230415T193931Z
LAST-MODIFIED:20230415T193931Z
UID:790-1682812800-1682985599@kct.polna.cz
SUMMARY:Ježek Vysočiny
DESCRIPTION:38. ročník tradičního pochodu – pořádá KČT\, odbor Bedřichov Jihlava\, trasy pro pěší 10 – 100 km
URL:https://kct.polna.cz/akce/jezek-vysociny/
END:VEVENT
END:VCALENDAR