BEGIN:VCALENDAR
VERSION:2.0
PRODID:-//Klub českých turistů Polná - ECPv6.3.5//NONSGML v1.0//EN
CALSCALE:GREGORIAN
METHOD:PUBLISH
X-ORIGINAL-URL:https://kct.polna.cz
X-WR-CALDESC:Akce na Klub českých turistů Polná
REFRESH-INTERVAL;VALUE=DURATION:PT1H
X-Robots-Tag:noindex
X-PUBLISHED-TTL:PT1H
BEGIN:VTIMEZONE
TZID:Europe/Paris
BEGIN:DAYLIGHT
TZOFFSETFROM:+0100
TZOFFSETTO:+0200
TZNAME:CEST
DTSTART:20240331T010000
END:DAYLIGHT
BEGIN:STANDARD
TZOFFSETFROM:+0200
TZOFFSETTO:+0100
TZNAME:CET
DTSTART:20241027T010000
END:STANDARD
END:VTIMEZONE
BEGIN:VEVENT
DTSTART;VALUE=DATE:20240927
DTEND;VALUE=DATE:20240930
DTSTAMP:20260420T134714
CREATED:20240220T212951Z
LAST-MODIFIED:20240220T212951Z
UID:2392-1727395200-1727654399@kct.polna.cz
SUMMARY:Za burčákem pěšky i na kole – Ostrožská Nová Ves
DESCRIPTION:
URL:https://kct.polna.cz/akce/za-burcakem-pesky-i-na-kole-ostrozska-nova-ves/
END:VEVENT
END:VCALENDAR