BEGIN:VCALENDAR
VERSION:2.0
PRODID:-//Klub českých turistů Polná - ECPv6.3.5//NONSGML v1.0//EN
CALSCALE:GREGORIAN
METHOD:PUBLISH
X-WR-CALNAME:Klub českých turistů Polná
X-ORIGINAL-URL:https://kct.polna.cz
X-WR-CALDESC:Akce na Klub českých turistů Polná
REFRESH-INTERVAL;VALUE=DURATION:PT1H
X-Robots-Tag:noindex
X-PUBLISHED-TTL:PT1H
BEGIN:VTIMEZONE
TZID:Europe/Paris
BEGIN:DAYLIGHT
TZOFFSETFROM:+0100
TZOFFSETTO:+0200
TZNAME:CEST
DTSTART:20230326T010000
END:DAYLIGHT
BEGIN:STANDARD
TZOFFSETFROM:+0200
TZOFFSETTO:+0100
TZNAME:CET
DTSTART:20231029T010000
END:STANDARD
END:VTIMEZONE
BEGIN:VEVENT
DTSTART;VALUE=DATE:20230506
DTEND;VALUE=DATE:20230509
DTSTAMP:20260421T142549
CREATED:20230123T134139Z
LAST-MODIFIED:20230123T134144Z
UID:238-1683331200-1683590399@kct.polna.cz
SUMMARY:Třeboňsko\, Vitorazsko
DESCRIPTION:Třídenní výlet\, zajišťují Pavel Horský – pěší\, Pavel Oberreiter – kola
URL:https://kct.polna.cz/akce/trebonsko-vitorazsko/
END:VEVENT
END:VCALENDAR